BEGIN:VCALENDAR
VERSION:2.0
PRODID:-//rlehistorical.org - ECPv6.15.20//NONSGML v1.0//EN
CALSCALE:GREGORIAN
METHOD:PUBLISH
X-WR-CALNAME:rlehistorical.org
X-ORIGINAL-URL:https://rlehistorical.org
X-WR-CALDESC:Events for rlehistorical.org
REFRESH-INTERVAL;VALUE=DURATION:PT1H
X-Robots-Tag:noindex
X-PUBLISHED-TTL:PT1H
BEGIN:VTIMEZONE
TZID:UTC
BEGIN:STANDARD
TZOFFSETFROM:+0000
TZOFFSETTO:+0000
TZNAME:UTC
DTSTART:20180101T000000
END:STANDARD
END:VTIMEZONE
BEGIN:VEVENT
DTSTART;TZID=UTC:20190914T090000
DTEND;TZID=UTC:20190914T170000
DTSTAMP:20260425T131041
CREATED:20180511T000823Z
LAST-MODIFIED:20190115T160816Z
UID:830-1568451600-1568480400@rlehistorical.org
SUMMARY:Annual Classic Car Show & Swap Meet
DESCRIPTION:Annual Classic Car Show and Swap Meet! \nSome of these autos are only shown here in Rio Linda.
URL:https://rlehistorical.org/event/annual-classic-car-show-swap-meet-2/
LOCATION:Classic Car Show & Swap Meet\, 6852 Dry Creek Road\, Rio Linda\, 95673\, United States
END:VEVENT
END:VCALENDAR